BEGIN:VCALENDAR
VERSION:2.0
PRODID:-//Monticello Chapter - Sons of the American Revolution - ECPv6.2.0.1//NONSGML v1.0//EN
CALSCALE:GREGORIAN
METHOD:PUBLISH
X-ORIGINAL-URL:http://mcksssar.org
X-WR-CALDESC:Events for Monticello Chapter - Sons of the American Revolution
REFRESH-INTERVAL;VALUE=DURATION:PT1H
X-Robots-Tag:noindex
X-PUBLISHED-TTL:PT1H
BEGIN:VTIMEZONE
TZID:America/Chicago
BEGIN:DAYLIGHT
TZOFFSETFROM:-0600
TZOFFSETTO:-0500
TZNAME:CDT
DTSTART:20230312T080000
END:DAYLIGHT
BEGIN:STANDARD
TZOFFSETFROM:-0500
TZOFFSETTO:-0600
TZNAME:CST
DTSTART:20231105T070000
END:STANDARD
BEGIN:DAYLIGHT
TZOFFSETFROM:-0600
TZOFFSETTO:-0500
TZNAME:CDT
DTSTART:20240310T080000
END:DAYLIGHT
BEGIN:STANDARD
TZOFFSETFROM:-0500
TZOFFSETTO:-0600
TZNAME:CST
DTSTART:20241103T070000
END:STANDARD
END:VTIMEZONE
BEGIN:VEVENT
DTSTART;TZID=America/Chicago:20231019T180000
DTEND;TZID=America/Chicago:20231019T200000
DTSTAMP:20260423T035032
CREATED:20230322T185451Z
LAST-MODIFIED:20230322T185502Z
UID:4650-1697738400-1697745600@mcksssar.org
SUMMARY:October Meeting
DESCRIPTION:Monthly Meeting
URL:http://mcksssar.org/event/october-meeting/
LOCATION:Pegah’s Family Restaurant\, 12122 W 87th St\, Lenexa\, KS\, 66215\, United States
END:VEVENT
BEGIN:VEVENT
DTSTART;TZID=America/Chicago:20231116T180000
DTEND;TZID=America/Chicago:20231116T200000
DTSTAMP:20260423T035032
CREATED:20230322T185953Z
LAST-MODIFIED:20230322T185953Z
UID:4652-1700157600-1700164800@mcksssar.org
SUMMARY:November Meeting
DESCRIPTION:Monthly Meeting
URL:http://mcksssar.org/event/november-meeting/
LOCATION:Pegah’s Family Restaurant\, 12122 W 87th St\, Lenexa\, KS\, 66215\, United States
END:VEVENT
BEGIN:VEVENT
DTSTART;TZID=America/Chicago:20231221T180000
DTEND;TZID=America/Chicago:20231221T200000
DTSTAMP:20260423T035032
CREATED:20211215T223325Z
LAST-MODIFIED:20230322T184351Z
UID:4632-1703181600-1703188800@mcksssar.org
SUMMARY:December Meeting
DESCRIPTION:Monthly meeting.
URL:http://mcksssar.org/event/december-meeting/
LOCATION:Pegah’s Family Restaurant\, 12122 W 87th St\, Lenexa\, KS\, 66215\, United States
END:VEVENT
BEGIN:VEVENT
DTSTART;TZID=America/Chicago:20240118T180000
DTEND;TZID=America/Chicago:20240118T200000
DTSTAMP:20260423T035032
CREATED:20211215T223219Z
LAST-MODIFIED:20230322T191044Z
UID:4630-1705600800-1705608000@mcksssar.org
SUMMARY:January Meeting
DESCRIPTION:Monthly meeting.
URL:http://mcksssar.org/event/january-meeting/
LOCATION:Pegah’s Family Restaurant\, 12122 W 87th St\, Lenexa\, KS\, 66215\, United States
END:VEVENT
END:VCALENDAR