BEGIN:VCALENDAR
VERSION:2.0
PRODID:-//Monticello Chapter - Sons of the American Revolution - ECPv6.2.0.1//NONSGML v1.0//EN
CALSCALE:GREGORIAN
METHOD:PUBLISH
X-ORIGINAL-URL:http://mcksssar.org
X-WR-CALDESC:Events for Monticello Chapter - Sons of the American Revolution
REFRESH-INTERVAL;VALUE=DURATION:PT1H
X-Robots-Tag:noindex
X-PUBLISHED-TTL:PT1H
BEGIN:VTIMEZONE
TZID:America/Chicago
BEGIN:DAYLIGHT
TZOFFSETFROM:-0600
TZOFFSETTO:-0500
TZNAME:CDT
DTSTART:20230312T080000
END:DAYLIGHT
BEGIN:STANDARD
TZOFFSETFROM:-0500
TZOFFSETTO:-0600
TZNAME:CST
DTSTART:20231105T070000
END:STANDARD
END:VTIMEZONE
BEGIN:VEVENT
DTSTART;TZID=America/Chicago:20230921T180000
DTEND;TZID=America/Chicago:20230921T200000
DTSTAMP:20260422T180106
CREATED:20230322T185412Z
LAST-MODIFIED:20230322T185412Z
UID:4648-1695319200-1695326400@mcksssar.org
SUMMARY:September Meeting
DESCRIPTION:Monthly Meeting
URL:http://mcksssar.org/event/september-meeting/
LOCATION:Pegah’s Family Restaurant\, 12122 W 87th St\, Lenexa\, KS\, 66215\, United States
END:VEVENT
END:VCALENDAR